BEGIN:VCALENDAR
VERSION:2.0
PRODID:-//ChamberMaster//Event Calendar 2.0//EN
METHOD:PUBLISH
X-PUBLISHED-TTL:P3D
REFRESH-INTERVAL:P3D
CALSCALE:GREGORIAN
BEGIN:VEVENT
DTSTART:20260910T130000Z
DTEND:20260910T143000Z
X-MICROSOFT-CDO-ALLDAYEVENT:FALSE
SUMMARY:Rise & Unite: A Community Impact Breakfast
DESCRIPTION:Rise & UNITE\n\nA Community Impact Breakfast \n\nStart your morning with purpose. \n\nJoin us for an engaging\, interactive breakfast that brings together local businesses\, community leaders\, and neighbors who care about the needs in Denton County and want to take action for solutions.
X-ALT-DESC;FMTTYPE=text/html:<h1><span style="color:rgb(255\, 186\, 0)">Rise</span>&nbsp\;&amp\; UNITE</h1>\n\n<h2><span style="color:rgb(0\, 68\, 181)">A Community Impact Breakfast&nbsp\;</span></h2>\n\n<h5><span style="color:rgb(253\, 55\, 44)">Start your morning with purpose.&nbsp\;</span></h5>\n\n<p><span style="color:rgb(100\, 101\, 103)">Join us for an engaging\, interactive breakfast that brings together local businesses\, community leaders\, and neighbors who care about the needs in Denton County and want to take action for solutions.</span></p>\n
LOCATION:Hilton Garden Inn 785 State Hwy 121\, Lewisville\, TX 75067
UID:e.690.5039539
SEQUENCE:3
DTSTAMP:20260421T194610Z
URL:https://business.dentonchamber.org/events/details/rise-unite-a-community-impact-breakfast-5039539
END:VEVENT

END:VCALENDAR
