BEGIN:VCALENDAR
VERSION:2.0
PRODID:-//ChamberMaster//Event Calendar 2.0//EN
METHOD:PUBLISH
X-PUBLISHED-TTL:P3D
REFRESH-INTERVAL:P3D
CALSCALE:GREGORIAN
BEGIN:VEVENT
DTSTART:20260521T160000Z
DTEND:20260521T163000Z
X-MICROSOFT-CDO-ALLDAYEVENT:FALSE
SUMMARY:Ribbon Cutting: Zimmerer Kubota & Equipment
DESCRIPTION:Ribbon Cutting: Zimmerer Kubota & Equipment
X-ALT-DESC;FMTTYPE=text/html:Ribbon Cutting: Zimmerer Kubota &amp\; Equipment
LOCATION:Zimmerer Kubota & Equipment 4701 North Interstate 35 Denton\, TX
UID:e.690.5039545
SEQUENCE:3
DTSTAMP:20260421T182446Z
URL:https://business.dentonchamber.org/events/details/ribbon-cutting-zimmerer-kubota-equipment-5039545
END:VEVENT

END:VCALENDAR
