BEGIN:VCALENDAR
VERSION:2.0
PRODID:-//ChamberMaster//Event Calendar 2.0//EN
METHOD:PUBLISH
X-PUBLISHED-TTL:P3D
REFRESH-INTERVAL:P3D
CALSCALE:GREGORIAN
BEGIN:VEVENT
DTSTART:20260211T000000Z
DTEND:20260211T030000Z
X-MICROSOFT-CDO-ALLDAYEVENT:FALSE
SUMMARY:Denton Parks Foundation - Love Where You Play: Galentine's 2026
DESCRIPTION:Love Where You Play: Galentine's 2026 is a community social fundraiser bringing people together to support local parks and recreational scholarships through the Denton Parks Foundation\, helping expand access to recreation and community programs.
X-ALT-DESC;FMTTYPE=text/html:<strong>Love Where You Play: Galentine&#39\;s 2026</strong> is a community social fundraiser bringing people together to support local parks and recreational scholarships through the Denton Parks Foundation\, helping expand access to recreation and community programs.
LOCATION:Denton Civic Center 321 E McKinney St Denton\, TX 76201
UID:e.690.5039475
SEQUENCE:3
DTSTAMP:20260422T030501Z
URL:https://business.dentonchamber.org/events/details/love-where-you-play-galentine-s-2026-5039475
END:VEVENT

END:VCALENDAR
